BEGIN:VCALENDAR
VERSION:2.0
PRODID:-//New Wineskin Ministries - ECPv6.15.20//NONSGML v1.0//EN
CALSCALE:GREGORIAN
METHOD:PUBLISH
X-WR-CALNAME:New Wineskin Ministries
X-ORIGINAL-URL:https://nwmcentral.com
X-WR-CALDESC:Events for New Wineskin Ministries
REFRESH-INTERVAL;VALUE=DURATION:PT1H
X-Robots-Tag:noindex
X-PUBLISHED-TTL:PT1H
BEGIN:VTIMEZONE
TZID:America/Indiana/Indianapolis
BEGIN:DAYLIGHT
TZOFFSETFROM:-0500
TZOFFSETTO:-0400
TZNAME:EDT
DTSTART:20240310T070000
END:DAYLIGHT
BEGIN:STANDARD
TZOFFSETFROM:-0400
TZOFFSETTO:-0500
TZNAME:EST
DTSTART:20241103T060000
END:STANDARD
BEGIN:DAYLIGHT
TZOFFSETFROM:-0500
TZOFFSETTO:-0400
TZNAME:EDT
DTSTART:20250309T070000
END:DAYLIGHT
BEGIN:STANDARD
TZOFFSETFROM:-0400
TZOFFSETTO:-0500
TZNAME:EST
DTSTART:20251102T060000
END:STANDARD
BEGIN:DAYLIGHT
TZOFFSETFROM:-0500
TZOFFSETTO:-0400
TZNAME:EDT
DTSTART:20260308T070000
END:DAYLIGHT
BEGIN:STANDARD
TZOFFSETFROM:-0400
TZOFFSETTO:-0500
TZNAME:EST
DTSTART:20261101T060000
END:STANDARD
END:VTIMEZONE
BEGIN:VEVENT
DTSTART;TZID=America/Indiana/Indianapolis:20250518T110000
DTEND;TZID=America/Indiana/Indianapolis:20250518T113000
DTSTAMP:20260424T095122
CREATED:20250507T214629Z
LAST-MODIFIED:20250507T215329Z
UID:2549-1747566000-1747567800@nwmcentral.com
SUMMARY:Share Graduate Names!
DESCRIPTION:We want to celebrate all 2025 graduates! Whether its a high school diploma\, a college degree\, a certificate\, class or license\, we would love to celebrate you and your hard work! Submit your name by the 18th of may\, and we will share your name with our church family during announcements. Reach out to Dr. Mary Woods for name submission. Her information can be found on our staff page.
URL:https://nwmcentral.com/event/share-graduate-names/
END:VEVENT
BEGIN:VEVENT
DTSTART;TZID=America/Indiana/Indianapolis:20250510T100000
DTEND;TZID=America/Indiana/Indianapolis:20250510T143000
DTSTAMP:20260424T095122
CREATED:20250407T164742Z
LAST-MODIFIED:20250408T162552Z
UID:2523-1746871200-1746887400@nwmcentral.com
SUMMARY:Mother's Day Luncheon
DESCRIPTION:Join us for our NWM Mother’s Day celebration\, hosted by the New Wineskin Women’s Ministry! Saturday March 10th\, we’re going to enjoy a musical about Queen Esther\, accompanied by refreshments. Our Prices are Listed below and our registration platform is attached. \nAges 10 and under: Free\nAges 11-18: $10\nAges 65 and older: $15\nAll other ages: $25
URL:https://nwmcentral.com/event/mothers-day-luncheon/
END:VEVENT
BEGIN:VEVENT
DTSTART;TZID=America/Indiana/Indianapolis:20250503T110000
DTEND;TZID=America/Indiana/Indianapolis:20250503T143000
DTSTAMP:20260424T095122
CREATED:20250417T140423Z
LAST-MODIFIED:20250417T140423Z
UID:2533-1746270000-1746282600@nwmcentral.com
SUMMARY:Last 7 Years Presentation
DESCRIPTION:Come learn from our International Team about Israel’s importance\, as we approach the final 7 years (the end times)! By scanning the QR code\, you can register today. \n \n 
URL:https://nwmcentral.com/event/last-7-years-presentation/
END:VEVENT
BEGIN:VEVENT
DTSTART;TZID=America/Indiana/Indianapolis:20250420T100000
DTEND;TZID=America/Indiana/Indianapolis:20250420T123000
DTSTAMP:20260424T095122
CREATED:20250407T164419Z
LAST-MODIFIED:20250407T164515Z
UID:2518-1745143200-1745152200@nwmcentral.com
SUMMARY:Resurrection Sunday!
DESCRIPTION:Come out and join us as we celebrate the resurrection of Jesus! All praises will be lifted on the 20th of April. See you there!
URL:https://nwmcentral.com/event/resurrection-sunday/
END:VEVENT
BEGIN:VEVENT
DTSTART;TZID=America/Indiana/Indianapolis:20250415T190000
DTEND;TZID=America/Indiana/Indianapolis:20250415T203000
DTSTAMP:20260424T095122
CREATED:20250303T130615Z
LAST-MODIFIED:20250411T191006Z
UID:2391-1744743600-1744749000@nwmcentral.com
SUMMARY:Bible Study
DESCRIPTION:Throughout the remainder of March and the beginning of April\, various NWM ministers will share important insight on Christ’s 7 last words before the Crucifixion. All are welcome every Tuesday evening.
URL:https://nwmcentral.com/event/bible-study/
END:VEVENT
BEGIN:VEVENT
DTSTART;TZID=America/Indiana/Indianapolis:20250405T120000
DTEND;TZID=America/Indiana/Indianapolis:20250406T120000
DTSTAMP:20260424T095122
CREATED:20250303T130350Z
LAST-MODIFIED:20250303T130350Z
UID:2387-1743854400-1743940800@nwmcentral.com
SUMMARY:24th Anniversary!
DESCRIPTION:Join us as we have Leadership Training with Dr. Tetsola! On April 5th\, he will give insight on how we can carry ourselves with a strong and positive mindset! Following this\, we invite you to celebrate with us as we continue into NWM’s 24th year of being in existence!
URL:https://nwmcentral.com/event/24th-anniversary/
END:VEVENT
BEGIN:VEVENT
DTSTART;TZID=America/Indiana/Indianapolis:20250329T100000
DTEND;TZID=America/Indiana/Indianapolis:20250329T130000
DTSTAMP:20260424T095122
CREATED:20250303T130048Z
LAST-MODIFIED:20250303T130048Z
UID:2383-1743242400-1743253200@nwmcentral.com
SUMMARY:Prayer Breakfast
DESCRIPTION:Come out and enjoy some good eats and thought-provoking conversation with the Women’s Ministry! Make sure to sign up with the help of a NWM Women’s Ministry team members!
URL:https://nwmcentral.com/event/prayer-breakfast/
END:VEVENT
BEGIN:VEVENT
DTSTART;TZID=America/Indiana/Indianapolis:20250222T110000
DTEND;TZID=America/Indiana/Indianapolis:20250222T130000
DTSTAMP:20260424T095122
CREATED:20250217T183341Z
LAST-MODIFIED:20250217T183437Z
UID:2325-1740222000-1740229200@nwmcentral.com
SUMMARY:Men's Breakfast
DESCRIPTION:Huddle up for breakfast with our brothers as we hop into the rich concept of walking in obedience with the Lord! Brother Henry Jordan is the person of contact if you have any questions.
URL:https://nwmcentral.com/event/mens-breakfast/
END:VEVENT
BEGIN:VEVENT
DTSTART;TZID=America/Indiana/Indianapolis:20250221T080000
DTEND;TZID=America/Indiana/Indianapolis:20250221T170000
DTSTAMP:20260424T095122
CREATED:20250217T182610Z
LAST-MODIFIED:20250217T182620Z
UID:2315-1740124800-1740157200@nwmcentral.com
SUMMARY:Fellowship Friday
DESCRIPTION:To all of our ladies\, we welcome you to a relaxed Zoom call with the Women’s Ministry! Here\, we gather from all around to check in with one another and dive into interesting convo! Sister Sundii Shobe is the contact person for any questions you may have.
URL:https://nwmcentral.com/event/fellowship-friday/
END:VEVENT
END:VCALENDAR